BEGIN:VCALENDAR
VERSION:2.0
PRODID:-//Wiseacre Brewing Co - ECPv6.15.12.2//NONSGML v1.0//EN
CALSCALE:GREGORIAN
METHOD:PUBLISH
X-ORIGINAL-URL:https://wiseacrebrew.com
X-WR-CALDESC:Events for Wiseacre Brewing Co
REFRESH-INTERVAL;VALUE=DURATION:PT1H
X-Robots-Tag:noindex
X-PUBLISHED-TTL:PT1H
BEGIN:VTIMEZONE
TZID:America/Chicago
BEGIN:DAYLIGHT
TZOFFSETFROM:-0600
TZOFFSETTO:-0500
TZNAME:CDT
DTSTART:20240310T080000
END:DAYLIGHT
BEGIN:STANDARD
TZOFFSETFROM:-0500
TZOFFSETTO:-0600
TZNAME:CST
DTSTART:20241103T070000
END:STANDARD
BEGIN:DAYLIGHT
TZOFFSETFROM:-0600
TZOFFSETTO:-0500
TZNAME:CDT
DTSTART:20250309T080000
END:DAYLIGHT
BEGIN:STANDARD
TZOFFSETFROM:-0500
TZOFFSETTO:-0600
TZNAME:CST
DTSTART:20251102T070000
END:STANDARD
BEGIN:DAYLIGHT
TZOFFSETFROM:-0600
TZOFFSETTO:-0500
TZNAME:CDT
DTSTART:20260308T080000
END:DAYLIGHT
BEGIN:STANDARD
TZOFFSETFROM:-0500
TZOFFSETTO:-0600
TZNAME:CST
DTSTART:20261101T070000
END:STANDARD
BEGIN:DAYLIGHT
TZOFFSETFROM:-0600
TZOFFSETTO:-0500
TZNAME:CDT
DTSTART:20270314T080000
END:DAYLIGHT
BEGIN:STANDARD
TZOFFSETFROM:-0500
TZOFFSETTO:-0600
TZNAME:CST
DTSTART:20271107T070000
END:STANDARD
END:VTIMEZONE
BEGIN:VEVENT
DTSTART;TZID=America/Chicago:20260425T100000
DTEND;TZID=America/Chicago:20260425T110000
DTSTAMP:20260425T150117
CREATED:20260422T180844Z
LAST-MODIFIED:20260422T204856Z
UID:10003100-1777111200-1777114800@wiseacrebrew.com
SUMMARY:Free Workout Series
DESCRIPTION:If your goals are to move your body more\, try new things\, or meet new people and make friends this year! We know it can be intimidating to start a new gym or fitness class so that’s why we’ve partnered with local fitness groups to continue our Wiseacre Workout Series! You can try a new class and meet new people almost every Saturday! The best part? These classes FREE and beginner friendly! All classes are hosted on Saturdays at 10am (unless stated otherwise) at our Downtown location! For most classes all you need is yourself\, some clothes you can sweat in\, and a yoga mat! Stay for Hoppy Hour after class and enjoy 10% off your draft beer tab! \nSign up here! \nUpcoming Class Schedule: \nAPRIL \n\n4/25 – Sana Yoga\n\nThis class will combine the best of both worlds to give you the best sweat\, detox\, stretch\, burn and workout that you’ve ever had! All you will need is a mat\, towel\, water and some clothes you can move and sweat in.\n\n\n\nMAY \n\n5/2 – GRIT Group Fitness\n\nGrit Group Fitness Core Strength. Strengthen your abs\, glutes\, shoulders\, and back using small controlled movements and resistance bands (provided). All levels welcome\, whether you’re just starting out or looking to level up your fitness. Participants will need a mat\, but I can bring any other equipment and a portable speaker.\n\n\n5/16 – Sana Yoga\n\nThis class will combine the best of both worlds to give you the best sweat\, detox\, stretch\, burn and workout that you’ve ever had! All you will need is a mat\, towel\, water and some clothes you can move and sweat in.\n\n\n5/30 – Ballet Memphis\n\nJUNE \n\n6/13 – Sana Yoga\n\nThis class will combine the best of both worlds to give you the best sweat\, detox\, stretch\, burn and workout that you’ve ever had! All you will need is a mat\, towel\, water and some clothes you can move and sweat in.\n\n\n6/27 – Ballet Memphis\n\nJULY \n\n7/11 – Neighborhood Barre\n\nNEIGHBORHOOD barre is a unique workout that combines the elements of dance conditioning\, pilates\, and resistance training to sculpt and tone the entire body. Our Method primarily uses small isometric movements with optional full-body elements to increase mobility and core strength.\n\n\n7/18 – Club Pilates\n\nGet ready for a fun & energizing 30-minute\, low-impact\, full-body workout. You’ll want to wear breathable\, form-fitting clothing. Please bring your mat\, towel\, water bottle!\n\n\n\nAUGUST \n\n8/8 – Club Pilates\n\nGet ready for a fun & energizing 30-minute\, low-impact\, full-body workout. You’ll want to wear breathable\, form-fitting clothing. Please bring your mat\, towel\, water bottle!\n\n\n\n  \n 
URL:https://wiseacrebrew.com/event-detail/free-workout-series-2-2/2026-04-25/
LOCATION:WISEACRE HQ Taproom\, 398 S B.B. King Blvd\, Memphis\, 38126\, United States
CATEGORIES:Fitness
ATTACH;FMTTYPE=image/jpeg:https://craftpeak-cooler-images.imgix.net/wiseacre-brewing-co/IMG_2719-3.jpg?auto=compress%2Cformat&ixlib=php-3.3.1&s=2c592464825b5f61c3125dc9cf94f4b3
END:VEVENT
BEGIN:VEVENT
DTSTART;TZID=America/Chicago:20260314T170000
DTEND;TZID=America/Chicago:20260314T220000
DTSTAMP:20260425T150117
CREATED:20260303T162456Z
LAST-MODIFIED:20260303T162456Z
UID:10003286-1773507600-1773525600@wiseacrebrew.com
SUMMARY:Celebrate Pi Day With Us!
DESCRIPTION:Join us for Pi Day at WISEACRE HQ with free music by Ultra Frog\, Circle Birds\, the Narrows\, and Misti Rae!! Plus pizza specials by Little Bettie Pizza and hand pies by Whisks of Doom!!
URL:https://wiseacrebrew.com/event-detail/celebrate-pi-day-with-us/
LOCATION:WISEACRE HQ Taproom\, 398 S B.B. King Blvd\, Memphis\, 38126\, United States
ATTACH;FMTTYPE=image/jpeg:https://craftpeak-cooler-images.imgix.net/wiseacre-brewing-co/Image_20260228_150720_862.jpeg?auto=compress%2Cformat&ixlib=php-3.3.1&s=fe24ee7fe466664fb1cb06721d75ca89
END:VEVENT
BEGIN:VEVENT
DTSTART;VALUE=DATE:20260301
DTEND;VALUE=DATE:20260302
DTSTAMP:20260425T150117
CREATED:20260219T172428Z
LAST-MODIFIED:20260219T172428Z
UID:10003284-1772323200-1772409599@wiseacrebrew.com
SUMMARY:WISEACRE Olympics
DESCRIPTION:Wiseacre Downtown HQ\, Little Bettie\, and Panuzzo King will be closed on Sunday March 1\, 2026 for Wiseacre’s Annual Employee Olympics!!!!! Broad OG will be open normal hours – come by and help us celebrate the winning team!!! 💪
URL:https://wiseacrebrew.com/event-detail/wiseacre-olympics/
LOCATION:WISEACRE HQ Taproom\, 398 S B.B. King Blvd\, Memphis\, 38126\, United States
ATTACH;FMTTYPE=image/jpeg:https://craftpeak-cooler-images.imgix.net/wiseacre-brewing-co/Olympics.jpg?auto=compress%2Cformat&ixlib=php-3.3.1&s=318182b64824c0fd4c7f328f621869e2
END:VEVENT
BEGIN:VEVENT
DTSTART;TZID=America/Chicago:20260307T130000
DTEND;TZID=America/Chicago:20260307T150000
DTSTAMP:20260425T150117
CREATED:20260219T170533Z
LAST-MODIFIED:20260219T170533Z
UID:10003283-1772888400-1772895600@wiseacrebrew.com
SUMMARY:Grizzlies Pre-Game Pep Rally
DESCRIPTION:Get ready for the March 7th Pre-Game Pep Rally at WISEACRE HQ starting at 1PM! Join us for a Chance to Win 2 Tickets to the Memphis Grizzlies vs LA Clippers Game and enjoy free samples of Sky Dog Premium Lager + Hype from the Claw Crew & Grizz Line from 2-3pm! 🏀🐻🍻
URL:https://wiseacrebrew.com/event-detail/grizzlies-pre-game-pep-rally/
LOCATION:WISEACRE HQ Taproom\, 398 S B.B. King Blvd\, Memphis\, 38126\, United States
ATTACH;FMTTYPE=image/jpeg:https://craftpeak-cooler-images.imgix.net/wiseacre-brewing-co/Flyer@300x-100.jpg?auto=compress%2Cformat&ixlib=php-3.3.1&s=ca517498dd62df26b0d168c34d87572d
END:VEVENT
BEGIN:VEVENT
DTSTART;TZID=America/Chicago:20260224T170000
DTEND;TZID=America/Chicago:20260224T200000
DTSTAMP:20260425T150117
CREATED:20260203T204844Z
LAST-MODIFIED:20260203T204844Z
UID:10003279-1771952400-1771963200@wiseacrebrew.com
SUMMARY:Sip 'n Stitch
DESCRIPTION:Feeling Crafty?? We are co-hosting a Sip n Stitch with @StitchingSupply ! Bring a craft you are working on or start something new from @StitchingSupply. Grab a drink or our N/A Hop-Zip while you stitch and socialize with fellow crafters. Whether you’re a seasoned stitcher or just starting out\, this is a great opportunity to relax\, get creative\, and connect with others who share your passion.
URL:https://wiseacrebrew.com/event-detail/sip-n-stitch-5/
LOCATION:WISEACRE HQ Taproom\, 398 S B.B. King Blvd\, Memphis\, 38126\, United States
CATEGORIES:Special Events
END:VEVENT
BEGIN:VEVENT
DTSTART;TZID=America/Chicago:20260203T170000
DTEND;TZID=America/Chicago:20260203T220000
DTSTAMP:20260425T150117
CREATED:20260203T202405Z
LAST-MODIFIED:20260203T203141Z
UID:10003271-1770138000-1770156000@wiseacrebrew.com
SUMMARY:Update HQ Taproom will open at 5pm
DESCRIPTION:
URL:https://wiseacrebrew.com/event-detail/update-taprooms-open-at-5pm/
LOCATION:WISEACRE HQ Taproom\, 398 S B.B. King Blvd\, Memphis\, 38126\, United States
END:VEVENT
BEGIN:VEVENT
DTSTART;TZID=America/Chicago:20260131T140000
DTEND;TZID=America/Chicago:20260131T180000
DTSTAMP:20260425T150117
CREATED:20260108T162607Z
LAST-MODIFIED:20260130T184729Z
UID:10003269-1769868000-1769882400@wiseacrebrew.com
SUMMARY:Winter Warmer NOW AT HQ!!
DESCRIPTION:To keep everyone safe and warm we are moving Winter Warmer to Downtown HQ! We still have a few spots left for tomorrow’s (Jan 31) Winter Warmer  \nWe’re doing things a little differently this year. Free ticket reservation allows you entry into the event. Attendees are able to purchase up to 6 drink tickets at $5 each to sample your preferences. We’ve cracked open the vault and pulled out some deep cuts and forgotten gems. Among these are vintage Astronaut Statii\, Snowbeards\, and other high gravity bottles. We’ll have over 15 boozy brews and some surf rock vibes by Turnstyles as background music (drink tickets and RSVP not required for music 😜) while you sip and savour these beers we’ve been saving over the years: \n\nAstronaut Status – 2019\nAstronaut Status – 2020\nAstronaut Status – 2021\nAstronaut Status – 2021 XO\nAstronaut Status – 2022\nAstronaut Status – 2022 Chocolate\nBarrel Aged Calculator\nCalculator on Eis – 2020\nFrozen Toast – Barrel Aged – 2019\nHoly Candy – 2019 with Dates\nSnowbeard- 2014\nSnowbeard – 2015\nSnowbeard – 2019\nSnowbeard – 2021\nSnowbeard – Barrel Aged – 2020\nSnowbeard – Barrel Aged – 2021\n\nFree ticket reservation allows you entry into the event. Attendees are able to purchase up to 6 drink tickets at $5 each to sample your preferences. No bottle sales this year. \nThis event is 21 and up only. No Re-Entry. No pets allowed. \nReserve your spot at the event HERE.
URL:https://wiseacrebrew.com/event-detail/winter-warmer-at-og/
LOCATION:WISEACRE HQ Taproom\, 398 S B.B. King Blvd\, Memphis\, 38126\, United States
ATTACH;FMTTYPE=image/png:https://craftpeak-cooler-images.imgix.net/wiseacre-brewing-co/winter-warmer.png?auto=compress%2Cformat&ixlib=php-3.3.1&s=3fa4f586ec0392bed0e93503f7c643fc
END:VEVENT
BEGIN:VEVENT
DTSTART;VALUE=DATE:20260119
DTEND;VALUE=DATE:20260120
DTSTAMP:20260425T150117
CREATED:20260108T154303Z
LAST-MODIFIED:20260108T154303Z
UID:10003268-1768780800-1768867199@wiseacrebrew.com
SUMMARY:Open Regular Hours on MLK Day
DESCRIPTION:
URL:https://wiseacrebrew.com/event-detail/open-regular-hours-on-mlk-day/
LOCATION:WISEACRE OG Taproom\, 2783 Broad Ave.\, Memphis\, TN\, 38112\, United States
END:VEVENT
BEGIN:VEVENT
DTSTART;TZID=America/Chicago:20260214T130000
DTEND;TZID=America/Chicago:20260214T143000
DTSTAMP:20260425T150117
CREATED:20251218T221027Z
LAST-MODIFIED:20260108T163207Z
UID:10003265-1771074000-1771079400@wiseacrebrew.com
SUMMARY:Flowers & Chocolate Pairing
DESCRIPTION:Join us for our annual beer and chocolates pairing class\, Flowers and Chocolate on February 14th. We’ll take a tour of the HQ facility and learn all about hops and malt\, the flowers and chocolate of the beer world. The class includes samples of WISEACRE beer paired with the best chocolate from our buddies at Dinstuhl’s. \nThis event is 21 and up. \nTickets
URL:https://wiseacrebrew.com/event-detail/flowers-chocolate-pairing-2/
LOCATION:WISEACRE HQ Taproom\, 398 S B.B. King Blvd\, Memphis\, 38126\, United States
CATEGORIES:Tour & Tasting
ATTACH;FMTTYPE=image/png:https://craftpeak-cooler-images.imgix.net/wiseacre-brewing-co/flowers-and-chocolate.png?auto=compress%2Cformat&ixlib=php-3.3.1&s=f7b4ecb6f7b8f4e7a069c2ef694ff001
END:VEVENT
BEGIN:VEVENT
DTSTART;VALUE=DATE:20251223
DTEND;VALUE=DATE:20260102
DTSTAMP:20260425T150117
CREATED:20251218T211638Z
LAST-MODIFIED:20251218T211727Z
UID:10003264-1766448000-1767311999@wiseacrebrew.com
SUMMARY:Upcoming Holiday Hours
DESCRIPTION:Christmas Hours\nWED DEC 24: \nHQ: 12pm – 6pm\nLittle Bettie: 12pm – 6pm\nOG: 12pm – 6pm\nPanuzzo King: 12pm – 5pm \nTHURS DEC 25:\nCLOSED \nDEC 26 – 30\nOpen Regular Hours \nNew Years Hours\nWED DEC 31:\nHQ: 12pm – 6pm\nLittle Bettie: 12pm – 6pm\nOG: 12pm – 6pm\nPanuzzo King: Closed \nTHURS JAN 1: \nHQ: 1pm – 6pm\nLittle Bettie: 1pm – 7pm\nOG: 1pm – 10pm\nPanuzzo King: 1pm – 7pm
URL:https://wiseacrebrew.com/event-detail/upcoming-holiday-hours/
LOCATION:WISEACRE HQ Taproom\, 398 S B.B. King Blvd\, Memphis\, 38126\, United States
END:VEVENT
BEGIN:VEVENT
DTSTART;TZID=America/Chicago:20260118T100000
DTEND;TZID=America/Chicago:20260118T143000
DTSTAMP:20260425T150117
CREATED:20251218T195309Z
LAST-MODIFIED:20260108T153330Z
UID:10003260-1768730400-1768746600@wiseacrebrew.com
SUMMARY:Grizzlies Watch Party
DESCRIPTION:Come hang with us and watch the Grizzlies play! We will open at 10am and the kitchen will be open for pizza slices.
URL:https://wiseacrebrew.com/event-detail/grizzlies-watch-party/
LOCATION:WISEACRE HQ Taproom\, 398 S B.B. King Blvd\, Memphis\, 38126\, United States
END:VEVENT
BEGIN:VEVENT
DTSTART;TZID=America/Chicago:20260121T190000
DTEND;TZID=America/Chicago:20260121T210000
DTSTAMP:20260425T150117
CREATED:20251218T191509Z
LAST-MODIFIED:20251218T191953Z
UID:10002572-1769022000-1769029200@wiseacrebrew.com
SUMMARY:Trivia Night
DESCRIPTION:Gather your crew and join at 7pm for a chance to win prizes at Wednesday Night Trivia at WISEACRE HQ!
URL:https://wiseacrebrew.com/event-detail/night-trivia-3/2026-01-21/
LOCATION:WISEACRE HQ Taproom\, 398 S B.B. King Blvd\, Memphis\, 38126\, United States
CATEGORIES:Trivia Night!
END:VEVENT
BEGIN:VEVENT
DTSTART;TZID=America/Chicago:20260408T190000
DTEND;TZID=America/Chicago:20260408T210000
DTSTAMP:20260425T150117
CREATED:20251218T191509Z
LAST-MODIFIED:20251218T191953Z
UID:10002583-1775674800-1775682000@wiseacrebrew.com
SUMMARY:Trivia Night
DESCRIPTION:Gather your crew and join at 7pm for a chance to win prizes at Wednesday Night Trivia at WISEACRE HQ!
URL:https://wiseacrebrew.com/event-detail/night-trivia-3/2026-04-08/
LOCATION:WISEACRE HQ Taproom\, 398 S B.B. King Blvd\, Memphis\, 38126\, United States
CATEGORIES:Trivia Night!
END:VEVENT
BEGIN:VEVENT
DTSTART;TZID=America/Chicago:20260128T190000
DTEND;TZID=America/Chicago:20260128T210000
DTSTAMP:20260425T150117
CREATED:20251218T191509Z
LAST-MODIFIED:20251218T191953Z
UID:10002573-1769626800-1769634000@wiseacrebrew.com
SUMMARY:Trivia Night
DESCRIPTION:Gather your crew and join at 7pm for a chance to win prizes at Wednesday Night Trivia at WISEACRE HQ!
URL:https://wiseacrebrew.com/event-detail/night-trivia-3/2026-01-28/
LOCATION:WISEACRE HQ Taproom\, 398 S B.B. King Blvd\, Memphis\, 38126\, United States
CATEGORIES:Trivia Night!
END:VEVENT
BEGIN:VEVENT
DTSTART;TZID=America/Chicago:20260415T190000
DTEND;TZID=America/Chicago:20260415T210000
DTSTAMP:20260425T150117
CREATED:20251218T191509Z
LAST-MODIFIED:20251218T191953Z
UID:10002584-1776279600-1776286800@wiseacrebrew.com
SUMMARY:Trivia Night
DESCRIPTION:Gather your crew and join at 7pm for a chance to win prizes at Wednesday Night Trivia at WISEACRE HQ!
URL:https://wiseacrebrew.com/event-detail/night-trivia-3/2026-04-15/
LOCATION:WISEACRE HQ Taproom\, 398 S B.B. King Blvd\, Memphis\, 38126\, United States
CATEGORIES:Trivia Night!
END:VEVENT
BEGIN:VEVENT
DTSTART;TZID=America/Chicago:20260204T190000
DTEND;TZID=America/Chicago:20260204T210000
DTSTAMP:20260425T150117
CREATED:20251218T191509Z
LAST-MODIFIED:20251218T191953Z
UID:10002574-1770231600-1770238800@wiseacrebrew.com
SUMMARY:Trivia Night
DESCRIPTION:Gather your crew and join at 7pm for a chance to win prizes at Wednesday Night Trivia at WISEACRE HQ!
URL:https://wiseacrebrew.com/event-detail/night-trivia-3/2026-02-04/
LOCATION:WISEACRE HQ Taproom\, 398 S B.B. King Blvd\, Memphis\, 38126\, United States
CATEGORIES:Trivia Night!
END:VEVENT
BEGIN:VEVENT
DTSTART;TZID=America/Chicago:20260422T190000
DTEND;TZID=America/Chicago:20260422T210000
DTSTAMP:20260425T150117
CREATED:20251218T191509Z
LAST-MODIFIED:20251218T191953Z
UID:10002585-1776884400-1776891600@wiseacrebrew.com
SUMMARY:Trivia Night
DESCRIPTION:Gather your crew and join at 7pm for a chance to win prizes at Wednesday Night Trivia at WISEACRE HQ!
URL:https://wiseacrebrew.com/event-detail/night-trivia-3/2026-04-22/
LOCATION:WISEACRE HQ Taproom\, 398 S B.B. King Blvd\, Memphis\, 38126\, United States
CATEGORIES:Trivia Night!
END:VEVENT
BEGIN:VEVENT
DTSTART;TZID=America/Chicago:20260211T190000
DTEND;TZID=America/Chicago:20260211T210000
DTSTAMP:20260425T150117
CREATED:20251218T191509Z
LAST-MODIFIED:20251218T191953Z
UID:10002575-1770836400-1770843600@wiseacrebrew.com
SUMMARY:Trivia Night
DESCRIPTION:Gather your crew and join at 7pm for a chance to win prizes at Wednesday Night Trivia at WISEACRE HQ!
URL:https://wiseacrebrew.com/event-detail/night-trivia-3/2026-02-11/
LOCATION:WISEACRE HQ Taproom\, 398 S B.B. King Blvd\, Memphis\, 38126\, United States
CATEGORIES:Trivia Night!
END:VEVENT
BEGIN:VEVENT
DTSTART;TZID=America/Chicago:20260218T190000
DTEND;TZID=America/Chicago:20260218T210000
DTSTAMP:20260425T150117
CREATED:20251218T191509Z
LAST-MODIFIED:20251218T191953Z
UID:10002576-1771441200-1771448400@wiseacrebrew.com
SUMMARY:Trivia Night
DESCRIPTION:Gather your crew and join at 7pm for a chance to win prizes at Wednesday Night Trivia at WISEACRE HQ!
URL:https://wiseacrebrew.com/event-detail/night-trivia-3/2026-02-18/
LOCATION:WISEACRE HQ Taproom\, 398 S B.B. King Blvd\, Memphis\, 38126\, United States
CATEGORIES:Trivia Night!
END:VEVENT
BEGIN:VEVENT
DTSTART;TZID=America/Chicago:20260225T190000
DTEND;TZID=America/Chicago:20260225T210000
DTSTAMP:20260425T150117
CREATED:20251218T191509Z
LAST-MODIFIED:20251218T191953Z
UID:10002577-1772046000-1772053200@wiseacrebrew.com
SUMMARY:Trivia Night
DESCRIPTION:Gather your crew and join at 7pm for a chance to win prizes at Wednesday Night Trivia at WISEACRE HQ!
URL:https://wiseacrebrew.com/event-detail/night-trivia-3/2026-02-25/
LOCATION:WISEACRE HQ Taproom\, 398 S B.B. King Blvd\, Memphis\, 38126\, United States
CATEGORIES:Trivia Night!
END:VEVENT
BEGIN:VEVENT
DTSTART;TZID=America/Chicago:20260304T190000
DTEND;TZID=America/Chicago:20260304T210000
DTSTAMP:20260425T150117
CREATED:20251218T191509Z
LAST-MODIFIED:20251218T191953Z
UID:10002578-1772650800-1772658000@wiseacrebrew.com
SUMMARY:Trivia Night
DESCRIPTION:Gather your crew and join at 7pm for a chance to win prizes at Wednesday Night Trivia at WISEACRE HQ!
URL:https://wiseacrebrew.com/event-detail/night-trivia-3/2026-03-04/
LOCATION:WISEACRE HQ Taproom\, 398 S B.B. King Blvd\, Memphis\, 38126\, United States
CATEGORIES:Trivia Night!
END:VEVENT
BEGIN:VEVENT
DTSTART;TZID=America/Chicago:20260311T190000
DTEND;TZID=America/Chicago:20260311T210000
DTSTAMP:20260425T150117
CREATED:20251218T191509Z
LAST-MODIFIED:20251218T191953Z
UID:10002579-1773255600-1773262800@wiseacrebrew.com
SUMMARY:Trivia Night
DESCRIPTION:Gather your crew and join at 7pm for a chance to win prizes at Wednesday Night Trivia at WISEACRE HQ!
URL:https://wiseacrebrew.com/event-detail/night-trivia-3/2026-03-11/
LOCATION:WISEACRE HQ Taproom\, 398 S B.B. King Blvd\, Memphis\, 38126\, United States
CATEGORIES:Trivia Night!
END:VEVENT
BEGIN:VEVENT
DTSTART;TZID=America/Chicago:20251217T190000
DTEND;TZID=America/Chicago:20251217T210000
DTSTAMP:20260425T150117
CREATED:20251218T191509Z
LAST-MODIFIED:20251218T191953Z
UID:10003256-1765998000-1766005200@wiseacrebrew.com
SUMMARY:Trivia Night
DESCRIPTION:Gather your crew and join at 7pm for a chance to win prizes at Wednesday Night Trivia at WISEACRE HQ!
URL:https://wiseacrebrew.com/event-detail/night-trivia-3/2025-12-17/
LOCATION:WISEACRE HQ Taproom\, 398 S B.B. King Blvd\, Memphis\, 38126\, United States
CATEGORIES:Trivia Night!
END:VEVENT
BEGIN:VEVENT
DTSTART;TZID=America/Chicago:20260318T190000
DTEND;TZID=America/Chicago:20260318T210000
DTSTAMP:20260425T150117
CREATED:20251218T191509Z
LAST-MODIFIED:20251218T191953Z
UID:10002580-1773860400-1773867600@wiseacrebrew.com
SUMMARY:Trivia Night
DESCRIPTION:Gather your crew and join at 7pm for a chance to win prizes at Wednesday Night Trivia at WISEACRE HQ!
URL:https://wiseacrebrew.com/event-detail/night-trivia-3/2026-03-18/
LOCATION:WISEACRE HQ Taproom\, 398 S B.B. King Blvd\, Memphis\, 38126\, United States
CATEGORIES:Trivia Night!
END:VEVENT
BEGIN:VEVENT
DTSTART;TZID=America/Chicago:20260107T190000
DTEND;TZID=America/Chicago:20260107T210000
DTSTAMP:20260425T150117
CREATED:20251218T191509Z
LAST-MODIFIED:20251218T191953Z
UID:10002570-1767812400-1767819600@wiseacrebrew.com
SUMMARY:Trivia Night
DESCRIPTION:Gather your crew and join at 7pm for a chance to win prizes at Wednesday Night Trivia at WISEACRE HQ!
URL:https://wiseacrebrew.com/event-detail/night-trivia-3/2026-01-07/
LOCATION:WISEACRE HQ Taproom\, 398 S B.B. King Blvd\, Memphis\, 38126\, United States
CATEGORIES:Trivia Night!
END:VEVENT
BEGIN:VEVENT
DTSTART;TZID=America/Chicago:20260325T190000
DTEND;TZID=America/Chicago:20260325T210000
DTSTAMP:20260425T150117
CREATED:20251218T191509Z
LAST-MODIFIED:20251218T191953Z
UID:10002581-1774465200-1774472400@wiseacrebrew.com
SUMMARY:Trivia Night
DESCRIPTION:Gather your crew and join at 7pm for a chance to win prizes at Wednesday Night Trivia at WISEACRE HQ!
URL:https://wiseacrebrew.com/event-detail/night-trivia-3/2026-03-25/
LOCATION:WISEACRE HQ Taproom\, 398 S B.B. King Blvd\, Memphis\, 38126\, United States
CATEGORIES:Trivia Night!
END:VEVENT
BEGIN:VEVENT
DTSTART;TZID=America/Chicago:20260114T190000
DTEND;TZID=America/Chicago:20260114T210000
DTSTAMP:20260425T150117
CREATED:20251218T191509Z
LAST-MODIFIED:20251218T191953Z
UID:10002571-1768417200-1768424400@wiseacrebrew.com
SUMMARY:Trivia Night
DESCRIPTION:Gather your crew and join at 7pm for a chance to win prizes at Wednesday Night Trivia at WISEACRE HQ!
URL:https://wiseacrebrew.com/event-detail/night-trivia-3/2026-01-14/
LOCATION:WISEACRE HQ Taproom\, 398 S B.B. King Blvd\, Memphis\, 38126\, United States
CATEGORIES:Trivia Night!
END:VEVENT
BEGIN:VEVENT
DTSTART;TZID=America/Chicago:20260401T190000
DTEND;TZID=America/Chicago:20260401T210000
DTSTAMP:20260425T150117
CREATED:20251218T191509Z
LAST-MODIFIED:20251218T191953Z
UID:10002582-1775070000-1775077200@wiseacrebrew.com
SUMMARY:Trivia Night
DESCRIPTION:Gather your crew and join at 7pm for a chance to win prizes at Wednesday Night Trivia at WISEACRE HQ!
URL:https://wiseacrebrew.com/event-detail/night-trivia-3/2026-04-01/
LOCATION:WISEACRE HQ Taproom\, 398 S B.B. King Blvd\, Memphis\, 38126\, United States
CATEGORIES:Trivia Night!
END:VEVENT
BEGIN:VEVENT
DTSTART;TZID=America/Chicago:20251214T180000
DTEND;TZID=America/Chicago:20251214T233000
DTSTAMP:20260425T150117
CREATED:20251212T225308Z
LAST-MODIFIED:20251215T200530Z
UID:10003231-1765735200-1765755000@wiseacrebrew.com
SUMMARY:Both Taprooms close at 6!
DESCRIPTION:
URL:https://wiseacrebrew.com/event-detail/hq-closes-at-5pm/
LOCATION:WISEACRE HQ Taproom\, 398 S B.B. King Blvd\, Memphis\, 38126\, United States
END:VEVENT
BEGIN:VEVENT
DTSTART;TZID=America/Chicago:20251206T073000
DTEND;TZID=America/Chicago:20251206T133000
DTSTAMP:20260425T150117
CREATED:20251205T183413Z
LAST-MODIFIED:20251205T183527Z
UID:10003230-1765006200-1765027800@wiseacrebrew.com
SUMMARY:Elvis + St. Jude Marathon Watch Party!
DESCRIPTION:Downtown HQ will open at 7:30am for the St. Jude Marathon! Elvis is back again this year to sing to the runners as they pass HQ 🕺🏽Bring your bib after the race & enjoy 20% off your draft tab! \nStick around for our Tacky Sweater party at 6PM featuring @mdsband covering the classic Memphis holiday album “In the Christmas Spirit” from @Staxrecords legends Booker T & the MGs. The MDs are made up of some Memphis’ finest musicians in Joe Restivo\, Landon Moore\, Pat Fusco\, and Graham Winchester. Soak in the holiday vibes with award winning light lagers + the rest of our beer array alongside batch cocktails\, wine options\, and an assortment of NA beverages to boot with @little_bettie_pizza
URL:https://wiseacrebrew.com/event-detail/elvis-st-jude-marathon-watch-party/
LOCATION:WISEACRE HQ Taproom\, 398 S B.B. King Blvd\, Memphis\, 38126\, United States
CATEGORIES:Special Events
END:VEVENT
END:VCALENDAR