BEGIN:VCALENDAR
VERSION:2.0
PRODID:-//Wiseacre Brewing Co - ECPv6.15.12.2//NONSGML v1.0//EN
CALSCALE:GREGORIAN
METHOD:PUBLISH
X-WR-CALNAME:Wiseacre Brewing Co
X-ORIGINAL-URL:https://wiseacrebrew.com
X-WR-CALDESC:Events for Wiseacre Brewing Co
REFRESH-INTERVAL;VALUE=DURATION:PT1H
X-Robots-Tag:noindex
X-PUBLISHED-TTL:PT1H
BEGIN:VTIMEZONE
TZID:America/Chicago
BEGIN:DAYLIGHT
TZOFFSETFROM:-0600
TZOFFSETTO:-0500
TZNAME:CDT
DTSTART:20250309T080000
END:DAYLIGHT
BEGIN:STANDARD
TZOFFSETFROM:-0500
TZOFFSETTO:-0600
TZNAME:CST
DTSTART:20251102T070000
END:STANDARD
BEGIN:DAYLIGHT
TZOFFSETFROM:-0600
TZOFFSETTO:-0500
TZNAME:CDT
DTSTART:20260308T080000
END:DAYLIGHT
BEGIN:STANDARD
TZOFFSETFROM:-0500
TZOFFSETTO:-0600
TZNAME:CST
DTSTART:20261101T070000
END:STANDARD
BEGIN:DAYLIGHT
TZOFFSETFROM:-0600
TZOFFSETTO:-0500
TZNAME:CDT
DTSTART:20270314T080000
END:DAYLIGHT
BEGIN:STANDARD
TZOFFSETFROM:-0500
TZOFFSETTO:-0600
TZNAME:CST
DTSTART:20271107T070000
END:STANDARD
BEGIN:DAYLIGHT
TZOFFSETFROM:-0600
TZOFFSETTO:-0500
TZNAME:CDT
DTSTART:20280312T080000
END:DAYLIGHT
BEGIN:STANDARD
TZOFFSETFROM:-0500
TZOFFSETTO:-0600
TZNAME:CST
DTSTART:20281105T070000
END:STANDARD
BEGIN:DAYLIGHT
TZOFFSETFROM:-0600
TZOFFSETTO:-0500
TZNAME:CDT
DTSTART:20290311T080000
END:DAYLIGHT
BEGIN:STANDARD
TZOFFSETFROM:-0500
TZOFFSETTO:-0600
TZNAME:CST
DTSTART:20291104T070000
END:STANDARD
BEGIN:DAYLIGHT
TZOFFSETFROM:-0600
TZOFFSETTO:-0500
TZNAME:CDT
DTSTART:20300310T080000
END:DAYLIGHT
BEGIN:STANDARD
TZOFFSETFROM:-0500
TZOFFSETTO:-0600
TZNAME:CST
DTSTART:20301103T070000
END:STANDARD
BEGIN:DAYLIGHT
TZOFFSETFROM:-0600
TZOFFSETTO:-0500
TZNAME:CDT
DTSTART:20310309T080000
END:DAYLIGHT
BEGIN:STANDARD
TZOFFSETFROM:-0500
TZOFFSETTO:-0600
TZNAME:CST
DTSTART:20311102T070000
END:STANDARD
END:VTIMEZONE
BEGIN:VEVENT
DTSTART;TZID=America/Chicago:20260721T130000
DTEND;TZID=America/Chicago:20260721T210000
DTSTAMP:20260425T192659
CREATED:20250613T190524Z
LAST-MODIFIED:20250613T190524Z
UID:10002861-1784638800-1784667600@wiseacrebrew.com
SUMMARY:$5 Pint Night
DESCRIPTION:Select Pints are $5 at Wiseacre Downtown HQ!
URL:https://wiseacrebrew.com/event-detail/5-pint-night/2026-07-21/
LOCATION:WISEACRE HQ Taproom\, 398 S B.B. King Blvd\, Memphis\, 38126\, United States
CATEGORIES:Happy Hour
END:VEVENT
BEGIN:VEVENT
DTSTART;TZID=America/Chicago:20270302T130000
DTEND;TZID=America/Chicago:20270302T210000
DTSTAMP:20260425T192659
CREATED:20250613T190524Z
LAST-MODIFIED:20250613T190524Z
UID:10002893-1803992400-1804021200@wiseacrebrew.com
SUMMARY:$5 Pint Night
DESCRIPTION:Select Pints are $5 at Wiseacre Downtown HQ!
URL:https://wiseacrebrew.com/event-detail/5-pint-night/2027-03-02/
LOCATION:WISEACRE HQ Taproom\, 398 S B.B. King Blvd\, Memphis\, 38126\, United States
CATEGORIES:Happy Hour
END:VEVENT
BEGIN:VEVENT
DTSTART;TZID=America/Chicago:20271012T130000
DTEND;TZID=America/Chicago:20271012T210000
DTSTAMP:20260425T192659
CREATED:20250613T190524Z
LAST-MODIFIED:20250613T190524Z
UID:10002925-1823346000-1823374800@wiseacrebrew.com
SUMMARY:$5 Pint Night
DESCRIPTION:Select Pints are $5 at Wiseacre Downtown HQ!
URL:https://wiseacrebrew.com/event-detail/5-pint-night/2027-10-12/
LOCATION:WISEACRE HQ Taproom\, 398 S B.B. King Blvd\, Memphis\, 38126\, United States
CATEGORIES:Happy Hour
END:VEVENT
BEGIN:VEVENT
DTSTART;TZID=America/Chicago:20280523T130000
DTEND;TZID=America/Chicago:20280523T210000
DTSTAMP:20260425T192659
CREATED:20250613T190524Z
LAST-MODIFIED:20250613T190524Z
UID:10002957-1842699600-1842728400@wiseacrebrew.com
SUMMARY:$5 Pint Night
DESCRIPTION:Select Pints are $5 at Wiseacre Downtown HQ!
URL:https://wiseacrebrew.com/event-detail/5-pint-night/2028-05-23/
LOCATION:WISEACRE HQ Taproom\, 398 S B.B. King Blvd\, Memphis\, 38126\, United States
CATEGORIES:Happy Hour
END:VEVENT
BEGIN:VEVENT
DTSTART;TZID=America/Chicago:20290102T130000
DTEND;TZID=America/Chicago:20290102T210000
DTSTAMP:20260425T192659
CREATED:20250613T190524Z
LAST-MODIFIED:20250613T190524Z
UID:10002989-1862053200-1862082000@wiseacrebrew.com
SUMMARY:$5 Pint Night
DESCRIPTION:Select Pints are $5 at Wiseacre Downtown HQ!
URL:https://wiseacrebrew.com/event-detail/5-pint-night/2029-01-02/
LOCATION:WISEACRE HQ Taproom\, 398 S B.B. King Blvd\, Memphis\, 38126\, United States
CATEGORIES:Happy Hour
END:VEVENT
BEGIN:VEVENT
DTSTART;TZID=America/Chicago:20290814T130000
DTEND;TZID=America/Chicago:20290814T210000
DTSTAMP:20260425T192659
CREATED:20250613T190524Z
LAST-MODIFIED:20250613T190524Z
UID:10003021-1881406800-1881435600@wiseacrebrew.com
SUMMARY:$5 Pint Night
DESCRIPTION:Select Pints are $5 at Wiseacre Downtown HQ!
URL:https://wiseacrebrew.com/event-detail/5-pint-night/2029-08-14/
LOCATION:WISEACRE HQ Taproom\, 398 S B.B. King Blvd\, Memphis\, 38126\, United States
CATEGORIES:Happy Hour
END:VEVENT
BEGIN:VEVENT
DTSTART;TZID=America/Chicago:20300326T130000
DTEND;TZID=America/Chicago:20300326T210000
DTSTAMP:20260425T192659
CREATED:20250613T190524Z
LAST-MODIFIED:20250613T190524Z
UID:10003053-1900760400-1900789200@wiseacrebrew.com
SUMMARY:$5 Pint Night
DESCRIPTION:Select Pints are $5 at Wiseacre Downtown HQ!
URL:https://wiseacrebrew.com/event-detail/5-pint-night/2030-03-26/
LOCATION:WISEACRE HQ Taproom\, 398 S B.B. King Blvd\, Memphis\, 38126\, United States
CATEGORIES:Happy Hour
END:VEVENT
BEGIN:VEVENT
DTSTART;TZID=America/Chicago:20261006T130000
DTEND;TZID=America/Chicago:20261006T210000
DTSTAMP:20260425T192659
CREATED:20250613T190524Z
LAST-MODIFIED:20250613T190524Z
UID:10002872-1791291600-1791320400@wiseacrebrew.com
SUMMARY:$5 Pint Night
DESCRIPTION:Select Pints are $5 at Wiseacre Downtown HQ!
URL:https://wiseacrebrew.com/event-detail/5-pint-night/2026-10-06/
LOCATION:WISEACRE HQ Taproom\, 398 S B.B. King Blvd\, Memphis\, 38126\, United States
CATEGORIES:Happy Hour
END:VEVENT
BEGIN:VEVENT
DTSTART;TZID=America/Chicago:20270518T130000
DTEND;TZID=America/Chicago:20270518T210000
DTSTAMP:20260425T192659
CREATED:20250613T190524Z
LAST-MODIFIED:20250613T190524Z
UID:10002904-1810645200-1810674000@wiseacrebrew.com
SUMMARY:$5 Pint Night
DESCRIPTION:Select Pints are $5 at Wiseacre Downtown HQ!
URL:https://wiseacrebrew.com/event-detail/5-pint-night/2027-05-18/
LOCATION:WISEACRE HQ Taproom\, 398 S B.B. King Blvd\, Memphis\, 38126\, United States
CATEGORIES:Happy Hour
END:VEVENT
BEGIN:VEVENT
DTSTART;TZID=America/Chicago:20271228T130000
DTEND;TZID=America/Chicago:20271228T210000
DTSTAMP:20260425T192659
CREATED:20250613T190524Z
LAST-MODIFIED:20250613T190524Z
UID:10002936-1829998800-1830027600@wiseacrebrew.com
SUMMARY:$5 Pint Night
DESCRIPTION:Select Pints are $5 at Wiseacre Downtown HQ!
URL:https://wiseacrebrew.com/event-detail/5-pint-night/2027-12-28/
LOCATION:WISEACRE HQ Taproom\, 398 S B.B. King Blvd\, Memphis\, 38126\, United States
CATEGORIES:Happy Hour
END:VEVENT
BEGIN:VEVENT
DTSTART;TZID=America/Chicago:20280808T130000
DTEND;TZID=America/Chicago:20280808T210000
DTSTAMP:20260425T192659
CREATED:20250613T190524Z
LAST-MODIFIED:20250613T190524Z
UID:10002968-1849352400-1849381200@wiseacrebrew.com
SUMMARY:$5 Pint Night
DESCRIPTION:Select Pints are $5 at Wiseacre Downtown HQ!
URL:https://wiseacrebrew.com/event-detail/5-pint-night/2028-08-08/
LOCATION:WISEACRE HQ Taproom\, 398 S B.B. King Blvd\, Memphis\, 38126\, United States
CATEGORIES:Happy Hour
END:VEVENT
BEGIN:VEVENT
DTSTART;TZID=America/Chicago:20290320T130000
DTEND;TZID=America/Chicago:20290320T210000
DTSTAMP:20260425T192659
CREATED:20250613T190524Z
LAST-MODIFIED:20250613T190524Z
UID:10003000-1868706000-1868734800@wiseacrebrew.com
SUMMARY:$5 Pint Night
DESCRIPTION:Select Pints are $5 at Wiseacre Downtown HQ!
URL:https://wiseacrebrew.com/event-detail/5-pint-night/2029-03-20/
LOCATION:WISEACRE HQ Taproom\, 398 S B.B. King Blvd\, Memphis\, 38126\, United States
CATEGORIES:Happy Hour
END:VEVENT
BEGIN:VEVENT
DTSTART;TZID=America/Chicago:20291030T130000
DTEND;TZID=America/Chicago:20291030T210000
DTSTAMP:20260425T192659
CREATED:20250613T190524Z
LAST-MODIFIED:20250613T190524Z
UID:10003032-1888059600-1888088400@wiseacrebrew.com
SUMMARY:$5 Pint Night
DESCRIPTION:Select Pints are $5 at Wiseacre Downtown HQ!
URL:https://wiseacrebrew.com/event-detail/5-pint-night/2029-10-30/
LOCATION:WISEACRE HQ Taproom\, 398 S B.B. King Blvd\, Memphis\, 38126\, United States
CATEGORIES:Happy Hour
END:VEVENT
BEGIN:VEVENT
DTSTART;TZID=America/Chicago:20300611T130000
DTEND;TZID=America/Chicago:20300611T210000
DTSTAMP:20260425T192659
CREATED:20250613T190524Z
LAST-MODIFIED:20250613T190524Z
UID:10003064-1907413200-1907442000@wiseacrebrew.com
SUMMARY:$5 Pint Night
DESCRIPTION:Select Pints are $5 at Wiseacre Downtown HQ!
URL:https://wiseacrebrew.com/event-detail/5-pint-night/2030-06-11/
LOCATION:WISEACRE HQ Taproom\, 398 S B.B. King Blvd\, Memphis\, 38126\, United States
CATEGORIES:Happy Hour
END:VEVENT
BEGIN:VEVENT
DTSTART;TZID=America/Chicago:20260512T130000
DTEND;TZID=America/Chicago:20260512T210000
DTSTAMP:20260425T192659
CREATED:20250613T190524Z
LAST-MODIFIED:20250613T190524Z
UID:10002851-1778590800-1778619600@wiseacrebrew.com
SUMMARY:$5 Pint Night
DESCRIPTION:Select Pints are $5 at Wiseacre Downtown HQ!
URL:https://wiseacrebrew.com/event-detail/5-pint-night/2026-05-12/
LOCATION:WISEACRE HQ Taproom\, 398 S B.B. King Blvd\, Memphis\, 38126\, United States
CATEGORIES:Happy Hour
END:VEVENT
BEGIN:VEVENT
DTSTART;TZID=America/Chicago:20261222T130000
DTEND;TZID=America/Chicago:20261222T210000
DTSTAMP:20260425T192659
CREATED:20250613T190524Z
LAST-MODIFIED:20250613T190524Z
UID:10002883-1797944400-1797973200@wiseacrebrew.com
SUMMARY:$5 Pint Night
DESCRIPTION:Select Pints are $5 at Wiseacre Downtown HQ!
URL:https://wiseacrebrew.com/event-detail/5-pint-night/2026-12-22/
LOCATION:WISEACRE HQ Taproom\, 398 S B.B. King Blvd\, Memphis\, 38126\, United States
CATEGORIES:Happy Hour
END:VEVENT
BEGIN:VEVENT
DTSTART;TZID=America/Chicago:20270803T130000
DTEND;TZID=America/Chicago:20270803T210000
DTSTAMP:20260425T192659
CREATED:20250613T190524Z
LAST-MODIFIED:20250613T190524Z
UID:10002915-1817298000-1817326800@wiseacrebrew.com
SUMMARY:$5 Pint Night
DESCRIPTION:Select Pints are $5 at Wiseacre Downtown HQ!
URL:https://wiseacrebrew.com/event-detail/5-pint-night/2027-08-03/
LOCATION:WISEACRE HQ Taproom\, 398 S B.B. King Blvd\, Memphis\, 38126\, United States
CATEGORIES:Happy Hour
END:VEVENT
BEGIN:VEVENT
DTSTART;TZID=America/Chicago:20280314T130000
DTEND;TZID=America/Chicago:20280314T210000
DTSTAMP:20260425T192659
CREATED:20250613T190524Z
LAST-MODIFIED:20250613T190524Z
UID:10002947-1836651600-1836680400@wiseacrebrew.com
SUMMARY:$5 Pint Night
DESCRIPTION:Select Pints are $5 at Wiseacre Downtown HQ!
URL:https://wiseacrebrew.com/event-detail/5-pint-night/2028-03-14/
LOCATION:WISEACRE HQ Taproom\, 398 S B.B. King Blvd\, Memphis\, 38126\, United States
CATEGORIES:Happy Hour
END:VEVENT
BEGIN:VEVENT
DTSTART;TZID=America/Chicago:20281024T130000
DTEND;TZID=America/Chicago:20281024T210000
DTSTAMP:20260425T192659
CREATED:20250613T190524Z
LAST-MODIFIED:20250613T190524Z
UID:10002979-1856005200-1856034000@wiseacrebrew.com
SUMMARY:$5 Pint Night
DESCRIPTION:Select Pints are $5 at Wiseacre Downtown HQ!
URL:https://wiseacrebrew.com/event-detail/5-pint-night/2028-10-24/
LOCATION:WISEACRE HQ Taproom\, 398 S B.B. King Blvd\, Memphis\, 38126\, United States
CATEGORIES:Happy Hour
END:VEVENT
BEGIN:VEVENT
DTSTART;TZID=America/Chicago:20290605T130000
DTEND;TZID=America/Chicago:20290605T210000
DTSTAMP:20260425T192659
CREATED:20250613T190524Z
LAST-MODIFIED:20250613T190524Z
UID:10003011-1875358800-1875387600@wiseacrebrew.com
SUMMARY:$5 Pint Night
DESCRIPTION:Select Pints are $5 at Wiseacre Downtown HQ!
URL:https://wiseacrebrew.com/event-detail/5-pint-night/2029-06-05/
LOCATION:WISEACRE HQ Taproom\, 398 S B.B. King Blvd\, Memphis\, 38126\, United States
CATEGORIES:Happy Hour
END:VEVENT
BEGIN:VEVENT
DTSTART;TZID=America/Chicago:20300115T130000
DTEND;TZID=America/Chicago:20300115T210000
DTSTAMP:20260425T192659
CREATED:20250613T190524Z
LAST-MODIFIED:20250613T190524Z
UID:10003043-1894712400-1894741200@wiseacrebrew.com
SUMMARY:$5 Pint Night
DESCRIPTION:Select Pints are $5 at Wiseacre Downtown HQ!
URL:https://wiseacrebrew.com/event-detail/5-pint-night/2030-01-15/
LOCATION:WISEACRE HQ Taproom\, 398 S B.B. King Blvd\, Memphis\, 38126\, United States
CATEGORIES:Happy Hour
END:VEVENT
BEGIN:VEVENT
DTSTART;TZID=America/Chicago:20260728T130000
DTEND;TZID=America/Chicago:20260728T210000
DTSTAMP:20260425T192659
CREATED:20250613T190524Z
LAST-MODIFIED:20250613T190524Z
UID:10002862-1785243600-1785272400@wiseacrebrew.com
SUMMARY:$5 Pint Night
DESCRIPTION:Select Pints are $5 at Wiseacre Downtown HQ!
URL:https://wiseacrebrew.com/event-detail/5-pint-night/2026-07-28/
LOCATION:WISEACRE HQ Taproom\, 398 S B.B. King Blvd\, Memphis\, 38126\, United States
CATEGORIES:Happy Hour
END:VEVENT
BEGIN:VEVENT
DTSTART;TZID=America/Chicago:20270309T130000
DTEND;TZID=America/Chicago:20270309T210000
DTSTAMP:20260425T192659
CREATED:20250613T190524Z
LAST-MODIFIED:20250613T190524Z
UID:10002894-1804597200-1804626000@wiseacrebrew.com
SUMMARY:$5 Pint Night
DESCRIPTION:Select Pints are $5 at Wiseacre Downtown HQ!
URL:https://wiseacrebrew.com/event-detail/5-pint-night/2027-03-09/
LOCATION:WISEACRE HQ Taproom\, 398 S B.B. King Blvd\, Memphis\, 38126\, United States
CATEGORIES:Happy Hour
END:VEVENT
BEGIN:VEVENT
DTSTART;TZID=America/Chicago:20271019T130000
DTEND;TZID=America/Chicago:20271019T210000
DTSTAMP:20260425T192659
CREATED:20250613T190524Z
LAST-MODIFIED:20250613T190524Z
UID:10002926-1823950800-1823979600@wiseacrebrew.com
SUMMARY:$5 Pint Night
DESCRIPTION:Select Pints are $5 at Wiseacre Downtown HQ!
URL:https://wiseacrebrew.com/event-detail/5-pint-night/2027-10-19/
LOCATION:WISEACRE HQ Taproom\, 398 S B.B. King Blvd\, Memphis\, 38126\, United States
CATEGORIES:Happy Hour
END:VEVENT
BEGIN:VEVENT
DTSTART;TZID=America/Chicago:20280530T130000
DTEND;TZID=America/Chicago:20280530T210000
DTSTAMP:20260425T192659
CREATED:20250613T190524Z
LAST-MODIFIED:20250613T190524Z
UID:10002958-1843304400-1843333200@wiseacrebrew.com
SUMMARY:$5 Pint Night
DESCRIPTION:Select Pints are $5 at Wiseacre Downtown HQ!
URL:https://wiseacrebrew.com/event-detail/5-pint-night/2028-05-30/
LOCATION:WISEACRE HQ Taproom\, 398 S B.B. King Blvd\, Memphis\, 38126\, United States
CATEGORIES:Happy Hour
END:VEVENT
BEGIN:VEVENT
DTSTART;TZID=America/Chicago:20290109T130000
DTEND;TZID=America/Chicago:20290109T210000
DTSTAMP:20260425T192659
CREATED:20250613T190524Z
LAST-MODIFIED:20250613T190524Z
UID:10002990-1862658000-1862686800@wiseacrebrew.com
SUMMARY:$5 Pint Night
DESCRIPTION:Select Pints are $5 at Wiseacre Downtown HQ!
URL:https://wiseacrebrew.com/event-detail/5-pint-night/2029-01-09/
LOCATION:WISEACRE HQ Taproom\, 398 S B.B. King Blvd\, Memphis\, 38126\, United States
CATEGORIES:Happy Hour
END:VEVENT
BEGIN:VEVENT
DTSTART;TZID=America/Chicago:20290821T130000
DTEND;TZID=America/Chicago:20290821T210000
DTSTAMP:20260425T192659
CREATED:20250613T190524Z
LAST-MODIFIED:20250613T190524Z
UID:10003022-1882011600-1882040400@wiseacrebrew.com
SUMMARY:$5 Pint Night
DESCRIPTION:Select Pints are $5 at Wiseacre Downtown HQ!
URL:https://wiseacrebrew.com/event-detail/5-pint-night/2029-08-21/
LOCATION:WISEACRE HQ Taproom\, 398 S B.B. King Blvd\, Memphis\, 38126\, United States
CATEGORIES:Happy Hour
END:VEVENT
BEGIN:VEVENT
DTSTART;TZID=America/Chicago:20300402T130000
DTEND;TZID=America/Chicago:20300402T210000
DTSTAMP:20260425T192659
CREATED:20250613T190524Z
LAST-MODIFIED:20250613T190524Z
UID:10003054-1901365200-1901394000@wiseacrebrew.com
SUMMARY:$5 Pint Night
DESCRIPTION:Select Pints are $5 at Wiseacre Downtown HQ!
URL:https://wiseacrebrew.com/event-detail/5-pint-night/2030-04-02/
LOCATION:WISEACRE HQ Taproom\, 398 S B.B. King Blvd\, Memphis\, 38126\, United States
CATEGORIES:Happy Hour
END:VEVENT
BEGIN:VEVENT
DTSTART;TZID=America/Chicago:20261013T130000
DTEND;TZID=America/Chicago:20261013T210000
DTSTAMP:20260425T192659
CREATED:20250613T190524Z
LAST-MODIFIED:20250613T190524Z
UID:10002873-1791896400-1791925200@wiseacrebrew.com
SUMMARY:$5 Pint Night
DESCRIPTION:Select Pints are $5 at Wiseacre Downtown HQ!
URL:https://wiseacrebrew.com/event-detail/5-pint-night/2026-10-13/
LOCATION:WISEACRE HQ Taproom\, 398 S B.B. King Blvd\, Memphis\, 38126\, United States
CATEGORIES:Happy Hour
END:VEVENT
BEGIN:VEVENT
DTSTART;TZID=America/Chicago:20270525T130000
DTEND;TZID=America/Chicago:20270525T210000
DTSTAMP:20260425T192659
CREATED:20250613T190524Z
LAST-MODIFIED:20250613T190524Z
UID:10002905-1811250000-1811278800@wiseacrebrew.com
SUMMARY:$5 Pint Night
DESCRIPTION:Select Pints are $5 at Wiseacre Downtown HQ!
URL:https://wiseacrebrew.com/event-detail/5-pint-night/2027-05-25/
LOCATION:WISEACRE HQ Taproom\, 398 S B.B. King Blvd\, Memphis\, 38126\, United States
CATEGORIES:Happy Hour
END:VEVENT
END:VCALENDAR